BEGIN:VCALENDAR
VERSION:2.0
PRODID:-//一般社団法人斜面防災対策技術協会（略称：斜面協会） - ECPv4.6.10.1//NONSGML v1.0//EN
CALSCALE:GREGORIAN
METHOD:PUBLISH
X-WR-CALNAME:一般社団法人斜面防災対策技術協会（略称：斜面協会）
X-ORIGINAL-URL:https://www.jasdim.or.jp
X-WR-CALDESC:一般社団法人斜面防災対策技術協会（略称：斜面協会） のイベント
BEGIN:VEVENT
DTSTART;VALUE=DATE:20140906
DTEND;VALUE=DATE:20140907
DTSTAMP:20260422T073712
CREATED:20140929T012125Z
LAST-MODIFIED:20140929T012125Z
UID:333-1409961600-1410047999@www.jasdim.or.jp
SUMMARY:地すべり防止工事試験（二次試験）富山会場
DESCRIPTION:場所：ボルファートとやま\n富山市奥田新町8-1　　電話　076-431-1113 \n
URL:https://www.jasdim.or.jp/event/333/
CATEGORIES:地すべり防止工事試験,富山支部
END:VEVENT
BEGIN:VEVENT
DTSTART;VALUE=DATE:20140906
DTEND;VALUE=DATE:20140907
DTSTAMP:20260422T073712
CREATED:20140929T012238Z
LAST-MODIFIED:20140929T012238Z
UID:334-1409961600-1410047999@www.jasdim.or.jp
SUMMARY:地すべり防止工事試験（二次試験）長野会場
DESCRIPTION:場所：ホテル信濃路\n長野市中御所岡田町131-4　　電話　026-226-5212 \n
URL:https://www.jasdim.or.jp/event/334/
CATEGORIES:地すべり防止工事試験,長野支部
END:VEVENT
BEGIN:VEVENT
DTSTART;VALUE=DATE:20140906
DTEND;VALUE=DATE:20140907
DTSTAMP:20260422T073712
CREATED:20140929T012349Z
LAST-MODIFIED:20140929T012349Z
UID:335-1409961600-1410047999@www.jasdim.or.jp
SUMMARY:地すべり防止工事試験（二次試験）高松会場
DESCRIPTION:場所：サン・イレブン高松\n高松市松福町2-15-24　　　電話　087-823-4550 \n
URL:https://www.jasdim.or.jp/event/335/
CATEGORIES:地すべり防止工事試験,四国支部
END:VEVENT
END:VCALENDAR