BEGIN:VCALENDAR
VERSION:2.0
PRODID:-//一般社団法人斜面防災対策技術協会（略称：斜面協会） - ECPv4.6.10.1//NONSGML v1.0//EN
CALSCALE:GREGORIAN
METHOD:PUBLISH
X-WR-CALNAME:一般社団法人斜面防災対策技術協会（略称：斜面協会）
X-ORIGINAL-URL:https://www.jasdim.or.jp
X-WR-CALDESC:一般社団法人斜面防災対策技術協会（略称：斜面協会） のイベント
BEGIN:VEVENT
DTSTART;TZID=Asia/Tokyo:20141002T130000
DTEND;TZID=Asia/Tokyo:20141002T170000
DTSTAMP:20260424T020645
CREATED:20141002T123935Z
LAST-MODIFIED:20141029T044533Z
UID:358-1412254800-1412269200@www.jasdim.or.jp
SUMMARY:安全パトロール（東北支部）
DESCRIPTION:場所： 株式会社新東京ジオ・システム 鴫の谷地作業所 山形県上山市大字小倉地内 \n  \n詳しくは案内をご覧ください。 \n  \n———————-＜結果報告＞ \n \n平成26年度安全パトロール（概要報告） \nと　き：平成26年10月2日(木) \nところ：山形県上山市大字小倉地内 \n工事名：平成25年度砂防関係施設機能改善事業 \n参加者：18名 \n(一社)斜面防災対策技術協会東北支部では山形県上山市大字小倉地内で行われている地すべり工事の現場において今年度の安全パトロ－ルを実施いたしました。 \n当日は晴天に恵まれて約2時間のパトロール取りまとめ結果発表が行われ活発な意見交換がなされました。 \n \n
URL:https://www.jasdim.or.jp/event/358/
CATEGORIES:斜面協会主催（共催）研修会・講習会,東北支部
END:VEVENT
END:VCALENDAR