BEGIN:VCALENDAR
VERSION:2.0
PRODID:-//一般社団法人斜面防災対策技術協会（略称：斜面協会） - ECPv4.6.10.1//NONSGML v1.0//EN
CALSCALE:GREGORIAN
METHOD:PUBLISH
X-WR-CALNAME:一般社団法人斜面防災対策技術協会（略称：斜面協会）
X-ORIGINAL-URL:https://www.jasdim.or.jp
X-WR-CALDESC:一般社団法人斜面防災対策技術協会（略称：斜面協会） のイベント
BEGIN:VEVENT
DTSTART;TZID=Asia/Tokyo:20141004T100000
DTEND;TZID=Asia/Tokyo:20141004T153000
DTSTAMP:20260424T052302
CREATED:20140929T013112Z
LAST-MODIFIED:20140929T013112Z
UID:339-1412416800-1412436600@www.jasdim.or.jp
SUMMARY:地すべり防止工事試験（二次試験）東京会場
DESCRIPTION:場所：弘済会館\n千代田区麹町5-1　　電話　03-5276-0333 \n
URL:https://www.jasdim.or.jp/event/339/
CATEGORIES:地すべり防止工事試験,関東支部
END:VEVENT
END:VCALENDAR