BEGIN:VCALENDAR
VERSION:2.0
PRODID:-//一般社団法人斜面防災対策技術協会（略称：斜面協会） - ECPv4.6.10.1//NONSGML v1.0//EN
CALSCALE:GREGORIAN
METHOD:PUBLISH
X-WR-CALNAME:一般社団法人斜面防災対策技術協会（略称：斜面協会）
X-ORIGINAL-URL:https://www.jasdim.or.jp
X-WR-CALDESC:一般社団法人斜面防災対策技術協会（略称：斜面協会） のイベント
BEGIN:VEVENT
DTSTART;TZID=Asia/Tokyo:20141010T080000
DTEND;TZID=Asia/Tokyo:20141010T163000
DTSTAMP:20260424T143432
CREATED:20140929T013412Z
LAST-MODIFIED:20140929T013412Z
UID:340-1412928000-1412958600@www.jasdim.or.jp
SUMMARY:現地見学会
DESCRIPTION:場所：　小樽・定山渓地域での融雪災害復旧箇所 \n
URL:https://www.jasdim.or.jp/event/340/
CATEGORIES:技術フォーラム,北海道支部
END:VEVENT
BEGIN:VEVENT
DTSTART;TZID=Asia/Tokyo:20141010T144000
DTEND;TZID=Asia/Tokyo:20141010T160000
DTSTAMP:20260424T143432
CREATED:20141008T074039Z
LAST-MODIFIED:20141009T073307Z
UID:374-1412952000-1412956800@www.jasdim.or.jp
SUMMARY:建設マスター顕彰式
DESCRIPTION:平成26年度優秀施工者（建設マスター）国土交通大臣顕彰式 \n  \n場所：メルパルクホール（東京都港区芝公園2-5-20） \n  \n※当協会からは、ライト工業様の推薦で同社の協力会社の方が表彰されることになりました。 \n  \n※建設マスターの詳細は以下のＨＰをご覧ください。 \nhttp://www.yoi-kensetsu.com/master/index.php \n  \n＜以下、建設通信新聞10月６日版より＞ \n国土交通省は３日、２０１４年度優秀施工者国土交通大臣顕彰（建設マスター）の対象者３８９人を公表した。１０日に東京都港区のメルパルクホールで顕彰式典を開く。１９９２年の創設以来、２３回目となる今回の顕彰で建設マスターの総数は８４１３人となる。\n建設マスターは、優秀な技能や技術を持ち、後進の指導育成に貢献した建設技能者を顕彰するもの。建設産業の第一線で「ものづくり」に携わる技能者の意欲喚起と、その社会的地位・評価の向上につなげる。\n１４年度に新たに建設マスターとなる３８９人の平均年齢は５１．６歳。最低年齢は３７歳、最高年齢は７０歳となっている。年齢層別の内訳は、３５－３９歳が４人、４０－４９歳が１３５人、５０－６０歳が２３３人、６１歳以上が１７人。過去最高となる５人の女性技能者（とび工、鉄筋工、造園工が各１人、電気工が２人）が受賞している点も特徴だ。 \n以上 \n
URL:https://www.jasdim.or.jp/event/374/
CATEGORIES:その他のイベント
END:VEVENT
END:VCALENDAR